BEGIN:VCALENDAR
VERSION:2.0
PRODID:-//Lee County Genealogical Society - ECPv6.15.20//NONSGML v1.0//EN
CALSCALE:GREGORIAN
METHOD:PUBLISH
X-WR-CALNAME:Lee County Genealogical Society
X-ORIGINAL-URL:https://lcgsfl.org
X-WR-CALDESC:Events for Lee County Genealogical Society
REFRESH-INTERVAL;VALUE=DURATION:PT1H
X-Robots-Tag:noindex
X-PUBLISHED-TTL:PT1H
BEGIN:VTIMEZONE
TZID:America/New_York
BEGIN:DAYLIGHT
TZOFFSETFROM:-0500
TZOFFSETTO:-0400
TZNAME:EDT
DTSTART:20230312T070000
END:DAYLIGHT
BEGIN:STANDARD
TZOFFSETFROM:-0400
TZOFFSETTO:-0500
TZNAME:EST
DTSTART:20231105T060000
END:STANDARD
BEGIN:DAYLIGHT
TZOFFSETFROM:-0500
TZOFFSETTO:-0400
TZNAME:EDT
DTSTART:20240310T070000
END:DAYLIGHT
BEGIN:STANDARD
TZOFFSETFROM:-0400
TZOFFSETTO:-0500
TZNAME:EST
DTSTART:20241103T060000
END:STANDARD
BEGIN:DAYLIGHT
TZOFFSETFROM:-0500
TZOFFSETTO:-0400
TZNAME:EDT
DTSTART:20250309T070000
END:DAYLIGHT
BEGIN:STANDARD
TZOFFSETFROM:-0400
TZOFFSETTO:-0500
TZNAME:EST
DTSTART:20251102T060000
END:STANDARD
END:VTIMEZONE
BEGIN:VEVENT
DTSTART;TZID=America/New_York:20240813T100000
DTEND;TZID=America/New_York:20240813T113000
DTSTAMP:20260423T141940
CREATED:20240130T164233Z
LAST-MODIFIED:20240130T171111Z
UID:3569-1723543200-1723548600@lcgsfl.org
SUMMARY:FMRL ~ Building and Understanding Family Trees presented by Eric Migdal
DESCRIPTION:(more…)
URL:https://lcgsfl.org/event/fmrl-building-and-understanding-family-trees-presented-by-eric-migdal/
LOCATION:Fort Myers Regional Library – Virtual Webinar
CATEGORIES:Other Society Events
ATTACH;FMTTYPE=image/png:https://lcgsfl.org/wp-content/uploads/2024/01/Eric-Migdal.png
ORGANIZER;CN="Bryan L. Mulcahy":MAILTO:bmulcahy@leegov.com
END:VEVENT
BEGIN:VEVENT
DTSTART;TZID=America/New_York:20240814T100000
DTEND;TZID=America/New_York:20240814T120000
DTSTAMP:20260423T141940
CREATED:20240814T185531Z
LAST-MODIFIED:20240814T185531Z
UID:3852-1723629600-1723636800@lcgsfl.org
SUMMARY:FMRL ~ Using German Language American Newspapers with Ken Weaver
DESCRIPTION:(more…)
URL:https://lcgsfl.org/event/fmrl-using-german-language-american-newspapers-with-ken-weaver/
LOCATION:Fort Myers Regional Library – Meeting Rm A & B – Hybrid\, 1651 Lee Street\, Room A & B\, Fort Myers\, FL\, 33901\, United States
CATEGORIES:Other Society Events
ORGANIZER;CN="Bryan L. Mulcahy":MAILTO:bmulcahy@leegov.com
END:VEVENT
BEGIN:VEVENT
DTSTART;TZID=America/New_York:20240815T100000
DTEND;TZID=America/New_York:20240815T120000
DTSTAMP:20260423T141940
CREATED:20231201T140046Z
LAST-MODIFIED:20250416T155420Z
UID:3279-1723716000-1723723200@lcgsfl.org
SUMMARY:Jurisdiction Explained: Finding New Avenues of Research for Your Family presented by Diana Elder
DESCRIPTION:(more…)
URL:https://lcgsfl.org/event/jurisdiction-explained-finding-new-avenues-of-research-for-your-family-presented-by-diana-elder/
LOCATION:Zoom via LCGS
CATEGORIES:LCGS Happenings
ATTACH;FMTTYPE=image/webp:https://lcgsfl.org/wp-content/uploads/2023/09/Diana-Elder.webp
END:VEVENT
BEGIN:VEVENT
DTSTART;TZID=America/New_York:20240817T100000
DTEND;TZID=America/New_York:20240817T120000
DTSTAMP:20260423T141940
CREATED:20240814T202953Z
LAST-MODIFIED:20240814T202953Z
UID:3904-1723888800-1723896000@lcgsfl.org
SUMMARY:PGS ~ Summer Workshop: Writing Family Histories with Lori Coffey
DESCRIPTION:(more…)
URL:https://lcgsfl.org/event/pgs-summer-workshop-writing-family-histories-with-lori-coffey/
LOCATION:Zoom via PGS
CATEGORIES:Other Society Events
ATTACH;FMTTYPE=image/png:https://lcgsfl.org/wp-content/uploads/2024/08/PGS-Logo.png
END:VEVENT
BEGIN:VEVENT
DTSTART;TZID=America/New_York:20240821T130000
DTEND;TZID=America/New_York:20240821T140000
DTSTAMP:20260423T141940
CREATED:20240816T212939Z
LAST-MODIFIED:20240816T212950Z
UID:3950-1724245200-1724248800@lcgsfl.org
SUMMARY:PGS ~ Meet the Pilgrims with Lori Coffey
DESCRIPTION:(more…)
URL:https://lcgsfl.org/event/pgs-meet-the-pilgrims/
LOCATION:Zoom via PGS
CATEGORIES:Other Society Events
ATTACH;FMTTYPE=image/png:https://lcgsfl.org/wp-content/uploads/2024/08/PGS-Logo.png
END:VEVENT
END:VCALENDAR