BEGIN:VCALENDAR
VERSION:2.0
PRODID:-//Lee County Genealogical Society - ECPv6.15.20//NONSGML v1.0//EN
CALSCALE:GREGORIAN
METHOD:PUBLISH
X-ORIGINAL-URL:https://lcgsfl.org
X-WR-CALDESC:Events for Lee County Genealogical Society
REFRESH-INTERVAL;VALUE=DURATION:PT1H
X-Robots-Tag:noindex
X-PUBLISHED-TTL:PT1H
BEGIN:VTIMEZONE
TZID:America/New_York
BEGIN:DAYLIGHT
TZOFFSETFROM:-0500
TZOFFSETTO:-0400
TZNAME:EDT
DTSTART:20230312T070000
END:DAYLIGHT
BEGIN:STANDARD
TZOFFSETFROM:-0400
TZOFFSETTO:-0500
TZNAME:EST
DTSTART:20231105T060000
END:STANDARD
BEGIN:DAYLIGHT
TZOFFSETFROM:-0500
TZOFFSETTO:-0400
TZNAME:EDT
DTSTART:20240310T070000
END:DAYLIGHT
BEGIN:STANDARD
TZOFFSETFROM:-0400
TZOFFSETTO:-0500
TZNAME:EST
DTSTART:20241103T060000
END:STANDARD
BEGIN:DAYLIGHT
TZOFFSETFROM:-0500
TZOFFSETTO:-0400
TZNAME:EDT
DTSTART:20250309T070000
END:DAYLIGHT
BEGIN:STANDARD
TZOFFSETFROM:-0400
TZOFFSETTO:-0500
TZNAME:EST
DTSTART:20251102T060000
END:STANDARD
END:VTIMEZONE
BEGIN:VEVENT
DTSTART;TZID=America/New_York:20240201T100000
DTEND;TZID=America/New_York:20240201T120000
DTSTAMP:20260423T144015
CREATED:20230307T224140Z
LAST-MODIFIED:20230307T224140Z
UID:2784-1706781600-1706788800@lcgsfl.org
SUMMARY:German Roots ~ SIG
DESCRIPTION:(more…)
URL:https://lcgsfl.org/event/german-roots-sig-5-4-2-2-2/
CATEGORIES:Special Interest Group Meeting
ATTACH;FMTTYPE=image/png:https://lcgsfl.org/wp-content/uploads/2021/12/gen-image.png
ORGANIZER;CN="Ken Weaver":MAILTO:kenneth.n.weaver@gmail.com
END:VEVENT
END:VCALENDAR