BEGIN:VCALENDAR
VERSION:2.0
PRODID:-//Lee County Genealogical Society - ECPv6.15.20//NONSGML v1.0//EN
CALSCALE:GREGORIAN
METHOD:PUBLISH
X-ORIGINAL-URL:https://lcgsfl.org
X-WR-CALDESC:Events for Lee County Genealogical Society
REFRESH-INTERVAL;VALUE=DURATION:PT1H
X-Robots-Tag:noindex
X-PUBLISHED-TTL:PT1H
BEGIN:VTIMEZONE
TZID:America/New_York
BEGIN:DAYLIGHT
TZOFFSETFROM:-0500
TZOFFSETTO:-0400
TZNAME:EDT
DTSTART:20250309T070000
END:DAYLIGHT
BEGIN:STANDARD
TZOFFSETFROM:-0400
TZOFFSETTO:-0500
TZNAME:EST
DTSTART:20251102T060000
END:STANDARD
BEGIN:DAYLIGHT
TZOFFSETFROM:-0500
TZOFFSETTO:-0400
TZNAME:EDT
DTSTART:20260308T070000
END:DAYLIGHT
BEGIN:STANDARD
TZOFFSETFROM:-0400
TZOFFSETTO:-0500
TZNAME:EST
DTSTART:20261101T060000
END:STANDARD
BEGIN:DAYLIGHT
TZOFFSETFROM:-0500
TZOFFSETTO:-0400
TZNAME:EDT
DTSTART:20270314T070000
END:DAYLIGHT
BEGIN:STANDARD
TZOFFSETFROM:-0400
TZOFFSETTO:-0500
TZNAME:EST
DTSTART:20271107T060000
END:STANDARD
END:VTIMEZONE
BEGIN:VEVENT
DTSTART;TZID=America/New_York:20260716T100000
DTEND;TZID=America/New_York:20260716T123000
DTSTAMP:20260425T081756
CREATED:20251209T215105Z
LAST-MODIFIED:20260330T155555Z
UID:4642-1784196000-1784205000@lcgsfl.org
SUMMARY:July Membership Meeting - Dead Men Do Tell Tales: Recreating Life in a Community using Death Certificates with Karen Fortin
DESCRIPTION:(more…)
URL:https://lcgsfl.org/event/july-membership-meeting-dead-men-do-tell-tales-recreating-life-in-a-community-using-death-certificates-with-karen-fortin/
LOCATION:Fort Myers Regional Library – Meeting Rm A & B – Hybrid\, 1651 Lee Street\, Room A & B\, Fort Myers\, FL\, 33901\, United States
CATEGORIES:LCGS Happenings
ATTACH;FMTTYPE=image/jpeg:https://lcgsfl.org/wp-content/uploads/2023/05/Kaaren-Fortin-Headshot.jpg
END:VEVENT
END:VCALENDAR