BEGIN:VCALENDAR
VERSION:2.0
PRODID:-//Lee County Genealogical Society - ECPv6.15.20//NONSGML v1.0//EN
CALSCALE:GREGORIAN
METHOD:PUBLISH
X-WR-CALNAME:Lee County Genealogical Society
X-ORIGINAL-URL:https://lcgsfl.org
X-WR-CALDESC:Events for Lee County Genealogical Society
REFRESH-INTERVAL;VALUE=DURATION:PT1H
X-Robots-Tag:noindex
X-PUBLISHED-TTL:PT1H
BEGIN:VTIMEZONE
TZID:America/New_York
BEGIN:DAYLIGHT
TZOFFSETFROM:-0500
TZOFFSETTO:-0400
TZNAME:EDT
DTSTART:20230312T070000
END:DAYLIGHT
BEGIN:STANDARD
TZOFFSETFROM:-0400
TZOFFSETTO:-0500
TZNAME:EST
DTSTART:20231105T060000
END:STANDARD
BEGIN:DAYLIGHT
TZOFFSETFROM:-0500
TZOFFSETTO:-0400
TZNAME:EDT
DTSTART:20240310T070000
END:DAYLIGHT
BEGIN:STANDARD
TZOFFSETFROM:-0400
TZOFFSETTO:-0500
TZNAME:EST
DTSTART:20241103T060000
END:STANDARD
BEGIN:DAYLIGHT
TZOFFSETFROM:-0500
TZOFFSETTO:-0400
TZNAME:EDT
DTSTART:20250309T070000
END:DAYLIGHT
BEGIN:STANDARD
TZOFFSETFROM:-0400
TZOFFSETTO:-0500
TZNAME:EST
DTSTART:20251102T060000
END:STANDARD
END:VTIMEZONE
BEGIN:VEVENT
DTSTART;TZID=America/New_York:20241221T100000
DTEND;TZID=America/New_York:20241221T113000
DTSTAMP:20260423T050744
CREATED:20240814T220159Z
LAST-MODIFIED:20240814T220231Z
UID:3937-1734775200-1734780600@lcgsfl.org
SUMMARY:FMRL ~ German Immigration Online with Ken Weaver
DESCRIPTION:(more…)
URL:https://lcgsfl.org/event/fmrl-german-immigration-online-with-ken-weaver/
LOCATION:Fort Myers Regional Library – Meeting Rm A & B – Hybrid\, 1651 Lee Street\, Room A & B\, Fort Myers\, FL\, 33901\, United States
CATEGORIES:Other Society Events
ORGANIZER;CN="Bryan L. Mulcahy":MAILTO:bmulcahy@leegov.com
END:VEVENT
END:VCALENDAR