BEGIN:VCALENDAR
VERSION:2.0
PRODID:-//Lee County Genealogical Society - ECPv6.15.20//NONSGML v1.0//EN
CALSCALE:GREGORIAN
METHOD:PUBLISH
X-ORIGINAL-URL:https://lcgsfl.org
X-WR-CALDESC:Events for Lee County Genealogical Society
REFRESH-INTERVAL;VALUE=DURATION:PT1H
X-Robots-Tag:noindex
X-PUBLISHED-TTL:PT1H
BEGIN:VTIMEZONE
TZID:America/New_York
BEGIN:DAYLIGHT
TZOFFSETFROM:-0500
TZOFFSETTO:-0400
TZNAME:EDT
DTSTART:20230312T070000
END:DAYLIGHT
BEGIN:STANDARD
TZOFFSETFROM:-0400
TZOFFSETTO:-0500
TZNAME:EST
DTSTART:20231105T060000
END:STANDARD
BEGIN:DAYLIGHT
TZOFFSETFROM:-0500
TZOFFSETTO:-0400
TZNAME:EDT
DTSTART:20240310T070000
END:DAYLIGHT
BEGIN:STANDARD
TZOFFSETFROM:-0400
TZOFFSETTO:-0500
TZNAME:EST
DTSTART:20241103T060000
END:STANDARD
BEGIN:DAYLIGHT
TZOFFSETFROM:-0500
TZOFFSETTO:-0400
TZNAME:EDT
DTSTART:20250309T070000
END:DAYLIGHT
BEGIN:STANDARD
TZOFFSETFROM:-0400
TZOFFSETTO:-0500
TZNAME:EST
DTSTART:20251102T060000
END:STANDARD
END:VTIMEZONE
BEGIN:VEVENT
DTSTART;TZID=America/New_York:20241203T100000
DTEND;TZID=America/New_York:20241203T123000
DTSTAMP:20260421T154622
CREATED:20240814T210225Z
LAST-MODIFIED:20240814T210248Z
UID:3924-1733220000-1733229000@lcgsfl.org
SUMMARY:MGS ~ Immigration and Naturalization Research with Bryan L. Mulcahy
DESCRIPTION:(more…)
URL:https://lcgsfl.org/event/mgs-immigration-and-naturalization-research-with-bryan-l-mulcahy/
LOCATION:Manatee Genealogical Society ~ Hybrid Meeting\, 1301 Barcarrota Blvd West\, Bradenton\, FL\, 34205\, United States
CATEGORIES:Other Society Events
ATTACH;FMTTYPE=image/jpeg:https://lcgsfl.org/wp-content/uploads/2022/09/MGS-1-1.jpg
END:VEVENT
END:VCALENDAR