BEGIN:VCALENDAR
VERSION:2.0
PRODID:-//Lee County Genealogical Society - ECPv6.15.20//NONSGML v1.0//EN
CALSCALE:GREGORIAN
METHOD:PUBLISH
X-ORIGINAL-URL:https://lcgsfl.org
X-WR-CALDESC:Events for Lee County Genealogical Society
REFRESH-INTERVAL;VALUE=DURATION:PT1H
X-Robots-Tag:noindex
X-PUBLISHED-TTL:PT1H
BEGIN:VTIMEZONE
TZID:America/New_York
BEGIN:DAYLIGHT
TZOFFSETFROM:-0500
TZOFFSETTO:-0400
TZNAME:EDT
DTSTART:20230312T070000
END:DAYLIGHT
BEGIN:STANDARD
TZOFFSETFROM:-0400
TZOFFSETTO:-0500
TZNAME:EST
DTSTART:20231105T060000
END:STANDARD
BEGIN:DAYLIGHT
TZOFFSETFROM:-0500
TZOFFSETTO:-0400
TZNAME:EDT
DTSTART:20240310T070000
END:DAYLIGHT
BEGIN:STANDARD
TZOFFSETFROM:-0400
TZOFFSETTO:-0500
TZNAME:EST
DTSTART:20241103T060000
END:STANDARD
BEGIN:DAYLIGHT
TZOFFSETFROM:-0500
TZOFFSETTO:-0400
TZNAME:EDT
DTSTART:20250309T070000
END:DAYLIGHT
BEGIN:STANDARD
TZOFFSETFROM:-0400
TZOFFSETTO:-0500
TZNAME:EST
DTSTART:20251102T060000
END:STANDARD
END:VTIMEZONE
BEGIN:VEVENT
DTSTART;TZID=America/New_York:20241112T100000
DTEND;TZID=America/New_York:20241112T123000
DTSTAMP:20260423T111202
CREATED:20240814T210013Z
LAST-MODIFIED:20240814T210033Z
UID:3921-1731405600-1731414600@lcgsfl.org
SUMMARY:MGS ~ Essential PC Tools for Genealogy with Peggy Jude
DESCRIPTION:(more…)
URL:https://lcgsfl.org/event/mgs-essential-pc-tools-for-genealogy-with-peggy-jude/
LOCATION:Manatee Genealogical Society ~ Hybrid Meeting\, 1301 Barcarrota Blvd West\, Bradenton\, FL\, 34205\, United States
CATEGORIES:Other Society Events
ATTACH;FMTTYPE=image/jpeg:https://lcgsfl.org/wp-content/uploads/2022/09/MGS-1-1.jpg
END:VEVENT
END:VCALENDAR