BEGIN:VCALENDAR
VERSION:2.0
PRODID:-//Lee County Genealogical Society - ECPv6.15.20//NONSGML v1.0//EN
CALSCALE:GREGORIAN
METHOD:PUBLISH
X-WR-CALNAME:Lee County Genealogical Society
X-ORIGINAL-URL:https://lcgsfl.org
X-WR-CALDESC:Events for Lee County Genealogical Society
REFRESH-INTERVAL;VALUE=DURATION:PT1H
X-Robots-Tag:noindex
X-PUBLISHED-TTL:PT1H
BEGIN:VTIMEZONE
TZID:America/New_York
BEGIN:DAYLIGHT
TZOFFSETFROM:-0500
TZOFFSETTO:-0400
TZNAME:EDT
DTSTART:20230312T070000
END:DAYLIGHT
BEGIN:STANDARD
TZOFFSETFROM:-0400
TZOFFSETTO:-0500
TZNAME:EST
DTSTART:20231105T060000
END:STANDARD
BEGIN:DAYLIGHT
TZOFFSETFROM:-0500
TZOFFSETTO:-0400
TZNAME:EDT
DTSTART:20240310T070000
END:DAYLIGHT
BEGIN:STANDARD
TZOFFSETFROM:-0400
TZOFFSETTO:-0500
TZNAME:EST
DTSTART:20241103T060000
END:STANDARD
BEGIN:DAYLIGHT
TZOFFSETFROM:-0500
TZOFFSETTO:-0400
TZNAME:EDT
DTSTART:20250309T070000
END:DAYLIGHT
BEGIN:STANDARD
TZOFFSETFROM:-0400
TZOFFSETTO:-0500
TZNAME:EST
DTSTART:20251102T060000
END:STANDARD
END:VTIMEZONE
BEGIN:VEVENT
DTSTART;TZID=America/New_York:20241001T100000
DTEND;TZID=America/New_York:20241001T113000
DTSTAMP:20260423T124057
CREATED:20240130T164613Z
LAST-MODIFIED:20240814T193744Z
UID:3573-1727776800-1727782200@lcgsfl.org
SUMMARY:FMRL ~ Overcoming Brickwalls\, Research Challenges\, and Dead Ends presented by Bryan Mulcahy
DESCRIPTION:(more…)
URL:https://lcgsfl.org/event/fmrl-overcoming-brickwalls-research-challenges-and-dead-ends-presented-by-bryan-mulcahy/
LOCATION:Fort Myers Regional Library – Virtual Webinar
CATEGORIES:Other Society Events
ATTACH;FMTTYPE=image/jpeg:https://lcgsfl.org/wp-content/uploads/2021/12/Bryan-Library-Social-Media-Project-One-1.jpg
ORGANIZER;CN="Bryan L. Mulcahy":MAILTO:bmulcahy@leegov.com
END:VEVENT
BEGIN:VEVENT
DTSTART;TZID=America/New_York:20241001T100000
DTEND;TZID=America/New_York:20241001T120000
DTSTAMP:20260423T124057
CREATED:20240814T205753Z
LAST-MODIFIED:20240814T205753Z
UID:3918-1727776800-1727784000@lcgsfl.org
SUMMARY:MGS ~ Tips and Tricks to Organizing Your Genealogy with Shannon Combs-Bennett
DESCRIPTION:(more…)
URL:https://lcgsfl.org/event/mgs-tips-and-tricks-to-organizing-your-genealogy-with-shannon-combs-bennett/
LOCATION:Manatee Genealogy Society  ~ Virtual
CATEGORIES:Other Society Events
ATTACH;FMTTYPE=image/jpeg:https://lcgsfl.org/wp-content/uploads/2022/09/MGS-1-1.jpg
END:VEVENT
END:VCALENDAR