BEGIN:VCALENDAR
VERSION:2.0
PRODID:-//Lee County Genealogical Society - ECPv6.15.20//NONSGML v1.0//EN
CALSCALE:GREGORIAN
METHOD:PUBLISH
X-WR-CALNAME:Lee County Genealogical Society
X-ORIGINAL-URL:https://lcgsfl.org
X-WR-CALDESC:Events for Lee County Genealogical Society
REFRESH-INTERVAL;VALUE=DURATION:PT1H
X-Robots-Tag:noindex
X-PUBLISHED-TTL:PT1H
BEGIN:VTIMEZONE
TZID:America/New_York
BEGIN:DAYLIGHT
TZOFFSETFROM:-0500
TZOFFSETTO:-0400
TZNAME:EDT
DTSTART:20230312T070000
END:DAYLIGHT
BEGIN:STANDARD
TZOFFSETFROM:-0400
TZOFFSETTO:-0500
TZNAME:EST
DTSTART:20231105T060000
END:STANDARD
BEGIN:DAYLIGHT
TZOFFSETFROM:-0500
TZOFFSETTO:-0400
TZNAME:EDT
DTSTART:20240310T070000
END:DAYLIGHT
BEGIN:STANDARD
TZOFFSETFROM:-0400
TZOFFSETTO:-0500
TZNAME:EST
DTSTART:20241103T060000
END:STANDARD
BEGIN:DAYLIGHT
TZOFFSETFROM:-0500
TZOFFSETTO:-0400
TZNAME:EDT
DTSTART:20250309T070000
END:DAYLIGHT
BEGIN:STANDARD
TZOFFSETFROM:-0400
TZOFFSETTO:-0500
TZNAME:EST
DTSTART:20251102T060000
END:STANDARD
END:VTIMEZONE
BEGIN:VEVENT
DTSTART;TZID=America/New_York:20240813T100000
DTEND;TZID=America/New_York:20240813T113000
DTSTAMP:20260423T155350
CREATED:20240130T164233Z
LAST-MODIFIED:20240130T171111Z
UID:3569-1723543200-1723548600@lcgsfl.org
SUMMARY:FMRL ~ Building and Understanding Family Trees presented by Eric Migdal
DESCRIPTION:(more…)
URL:https://lcgsfl.org/event/fmrl-building-and-understanding-family-trees-presented-by-eric-migdal/
LOCATION:Fort Myers Regional Library – Virtual Webinar
CATEGORIES:Other Society Events
ATTACH;FMTTYPE=image/png:https://lcgsfl.org/wp-content/uploads/2024/01/Eric-Migdal.png
ORGANIZER;CN="Bryan L. Mulcahy":MAILTO:bmulcahy@leegov.com
END:VEVENT
END:VCALENDAR